BEGIN:VCALENDAR
VERSION:2.0
PRODID:-//Eagle&#039;s Eye Solutions Ltd - ECPv6.15.20//NONSGML v1.0//EN
CALSCALE:GREGORIAN
METHOD:PUBLISH
X-ORIGINAL-URL:https://www.eagleseye.mu
X-WR-CALDESC:Events for Eagle&#039;s Eye Solutions Ltd
REFRESH-INTERVAL;VALUE=DURATION:PT1H
X-Robots-Tag:noindex
X-PUBLISHED-TTL:PT1H
BEGIN:VTIMEZONE
TZID:Indian/Mauritius
BEGIN:STANDARD
TZOFFSETFROM:+0400
TZOFFSETTO:+0400
TZNAME:+04
DTSTART:20240101T000000
END:STANDARD
END:VTIMEZONE
BEGIN:VEVENT
DTSTART;VALUE=DATE:20251001
DTEND;VALUE=DATE:20251002
DTSTAMP:20260422T074902
CREATED:20250910T140300Z
LAST-MODIFIED:20250910T140300Z
UID:4397-1759276800-1759363199@www.eagleseye.mu
SUMMARY:Project Management Workshop
DESCRIPTION:
URL:https://www.eagleseye.mu/training-event/project-management-workshop/
LOCATION:Corporate Venue\, Kigali\, Rwanda
CATEGORIES:Corporate Session
END:VEVENT
BEGIN:VEVENT
DTSTART;VALUE=DATE:20251003
DTEND;VALUE=DATE:20251004
DTSTAMP:20260422T074902
CREATED:20250910T140348Z
LAST-MODIFIED:20250910T140348Z
UID:4400-1759449600-1759535999@www.eagleseye.mu
SUMMARY:Project Management Workshop
DESCRIPTION:
URL:https://www.eagleseye.mu/training-event/project-management-workshop-2/
LOCATION:Corporate Venue\, Kigali\, Rwanda
CATEGORIES:Corporate Session
ORGANIZER;CN="Eagle's Eye Solutions":MAILTO:contact@eagleseye.mu
END:VEVENT
BEGIN:VEVENT
DTSTART;VALUE=DATE:20251004
DTEND;VALUE=DATE:20251005
DTSTAMP:20260422T074902
CREATED:20250910T140129Z
LAST-MODIFIED:20250910T140129Z
UID:4395-1759536000-1759622399@www.eagleseye.mu
SUMMARY:PMP Exam Prep Course (125th Edition)
DESCRIPTION:
URL:https://www.eagleseye.mu/training-event/pmp-exam-prep-course-125th-edition-5/
LOCATION:Voila Hotel\, Bagatelle\, Bagatelle\, Reduit\, Mauritius
CATEGORIES:Weekend Session
ORGANIZER;CN="Eagle's Eye Solutions":MAILTO:contact@eagleseye.mu
END:VEVENT
BEGIN:VEVENT
DTSTART;VALUE=DATE:20251007
DTEND;VALUE=DATE:20251010
DTSTAMP:20260422T074902
CREATED:20250910T140520Z
LAST-MODIFIED:20250910T140520Z
UID:4402-1759795200-1760054399@www.eagleseye.mu
SUMMARY:Project Management Workshop
DESCRIPTION:
URL:https://www.eagleseye.mu/training-event/project-management-workshop-3/
LOCATION:Corporate Venue\, Kigali\, Rwanda
CATEGORIES:Corporate Session
ORGANIZER;CN="Eagle's Eye Solutions":MAILTO:contact@eagleseye.mu
END:VEVENT
BEGIN:VEVENT
DTSTART;VALUE=DATE:20251013
DTEND;VALUE=DATE:20251018
DTSTAMP:20260422T074902
CREATED:20250910T140601Z
LAST-MODIFIED:20250910T140601Z
UID:4404-1760313600-1760745599@www.eagleseye.mu
SUMMARY:Project Management Workshop
DESCRIPTION:
URL:https://www.eagleseye.mu/training-event/project-management-workshop-4/
LOCATION:Corporate Venue\, Kigali\, Rwanda
CATEGORIES:Corporate Session
ORGANIZER;CN="Eagle's Eye Solutions":MAILTO:contact@eagleseye.mu
END:VEVENT
BEGIN:VEVENT
DTSTART;VALUE=DATE:20251018
DTEND;VALUE=DATE:20251019
DTSTAMP:20260422T074902
CREATED:20250910T140806Z
LAST-MODIFIED:20250910T140806Z
UID:4406-1760745600-1760831999@www.eagleseye.mu
SUMMARY:PMP Exam Prep Course (126th Edition)
DESCRIPTION:
URL:https://www.eagleseye.mu/training-event/pmp-exam-prep-course-126th-edition/
LOCATION:Voila Hotel\, Bagatelle\, Bagatelle\, Reduit\, Mauritius
CATEGORIES:Weekend Session
ORGANIZER;CN="Eagle's Eye Solutions":MAILTO:contact@eagleseye.mu
END:VEVENT
BEGIN:VEVENT
DTSTART;VALUE=DATE:20251020
DTEND;VALUE=DATE:20251021
DTSTAMP:20260422T074902
CREATED:20250307T142900Z
LAST-MODIFIED:20250307T142900Z
UID:4215-1760918400-1761004799@www.eagleseye.mu
SUMMARY:Public Holiday
DESCRIPTION:
URL:https://www.eagleseye.mu/training-event/public-holiday-39/
CATEGORIES:Public Holiday
END:VEVENT
BEGIN:VEVENT
DTSTART;VALUE=DATE:20251026
DTEND;VALUE=DATE:20251027
DTSTAMP:20260422T074902
CREATED:20250910T140903Z
LAST-MODIFIED:20250910T140903Z
UID:4408-1761436800-1761523199@www.eagleseye.mu
SUMMARY:PMP Exam Prep Course (126th Edition)
DESCRIPTION:
URL:https://www.eagleseye.mu/training-event/pmp-exam-prep-course-126th-edition-2/
LOCATION:Voila Hotel\, Bagatelle\, Bagatelle\, Reduit\, Mauritius
CATEGORIES:Weekend Session
ORGANIZER;CN="Eagle's Eye Solutions":MAILTO:contact@eagleseye.mu
END:VEVENT
END:VCALENDAR