BEGIN:VCALENDAR
VERSION:2.0
PRODID:-//Eagle&#039;s Eye Solutions Ltd - ECPv6.15.20//NONSGML v1.0//EN
CALSCALE:GREGORIAN
METHOD:PUBLISH
X-WR-CALNAME:Eagle&#039;s Eye Solutions Ltd
X-ORIGINAL-URL:https://www.eagleseye.mu
X-WR-CALDESC:Events for Eagle&#039;s Eye Solutions Ltd
REFRESH-INTERVAL;VALUE=DURATION:PT1H
X-Robots-Tag:noindex
X-PUBLISHED-TTL:PT1H
BEGIN:VTIMEZONE
TZID:Indian/Mauritius
BEGIN:STANDARD
TZOFFSETFROM:+0400
TZOFFSETTO:+0400
TZNAME:+04
DTSTART:20240101T000000
END:STANDARD
END:VTIMEZONE
BEGIN:VEVENT
DTSTART;VALUE=DATE:20250312
DTEND;VALUE=DATE:20250313
DTSTAMP:20260421T195930
CREATED:20250307T142626Z
LAST-MODIFIED:20250307T142626Z
UID:4207-1741737600-1741823999@www.eagleseye.mu
SUMMARY:Public Holiday
DESCRIPTION:
URL:https://www.eagleseye.mu/training-event/public-holiday-35/
CATEGORIES:Public Holiday
END:VEVENT
BEGIN:VEVENT
DTSTART;TZID=Indian/Mauritius:20250322T080000
DTEND;TZID=Indian/Mauritius:20250322T170000
DTSTAMP:20260421T195930
CREATED:20250307T141059Z
LAST-MODIFIED:20250307T141059Z
UID:4185-1742630400-1742662800@www.eagleseye.mu
SUMMARY:Project Management Professional (PMP)
DESCRIPTION:
URL:https://www.eagleseye.mu/training-event/project-management-professional-pmp-10/
LOCATION:Voila Hotel\, Bagatelle\, Bagatelle\, Reduit\, Mauritius
CATEGORIES:Project Management Training Category,Weekend Session
ORGANIZER;CN="Eagle's Eye Solutions":MAILTO:contact@eagleseye.mu
END:VEVENT
BEGIN:VEVENT
DTSTART;TZID=Indian/Mauritius:20250329T080000
DTEND;TZID=Indian/Mauritius:20250329T170000
DTSTAMP:20260421T195930
CREATED:20250307T140435Z
LAST-MODIFIED:20250307T140953Z
UID:4175-1743235200-1743267600@www.eagleseye.mu
SUMMARY:Project Management Professional (PMP)
DESCRIPTION:
URL:https://www.eagleseye.mu/training-event/project-management-professional-pmp-6/
LOCATION:Voila Hotel\, Bagatelle\, Bagatelle\, Reduit\, Mauritius
CATEGORIES:Project Management Training Category,Weekend Session
ORGANIZER;CN="Eagle's Eye Solutions":MAILTO:contact@eagleseye.mu
END:VEVENT
BEGIN:VEVENT
DTSTART;VALUE=DATE:20250330
DTEND;VALUE=DATE:20250401
DTSTAMP:20260421T195930
CREATED:20250307T142727Z
LAST-MODIFIED:20250307T142727Z
UID:4209-1743292800-1743465599@www.eagleseye.mu
SUMMARY:Public Holiday
DESCRIPTION:
URL:https://www.eagleseye.mu/training-event/public-holiday-36/
CATEGORIES:Public Holiday
END:VEVENT
END:VCALENDAR