BEGIN:VCALENDAR
VERSION:2.0
PRODID:-//Eagle&#039;s Eye Solutions Ltd - ECPv6.15.20//NONSGML v1.0//EN
CALSCALE:GREGORIAN
METHOD:PUBLISH
X-WR-CALNAME:Eagle&#039;s Eye Solutions Ltd
X-ORIGINAL-URL:https://www.eagleseye.mu
X-WR-CALDESC:Events for Eagle&#039;s Eye Solutions Ltd
REFRESH-INTERVAL;VALUE=DURATION:PT1H
X-Robots-Tag:noindex
X-PUBLISHED-TTL:PT1H
BEGIN:VTIMEZONE
TZID:Indian/Mauritius
BEGIN:STANDARD
TZOFFSETFROM:+0400
TZOFFSETTO:+0400
TZNAME:+04
DTSTART:20230101T000000
END:STANDARD
END:VTIMEZONE
BEGIN:VEVENT
DTSTART;VALUE=DATE:20240601
DTEND;VALUE=DATE:20240602
DTSTAMP:20260421T032351
CREATED:20231006T060115Z
LAST-MODIFIED:20231006T060115Z
UID:4056-1717200000-1717286399@www.eagleseye.mu
SUMMARY:Project Management Professional\, PMP® Prep. Course
DESCRIPTION:
URL:https://www.eagleseye.mu/training-event/project-management-professional-pmp-prep-course-74/
LOCATION:Voila Hotel\, Bagatelle\, Bagatelle\, Reduit\, Mauritius
CATEGORIES:Weekend Session
ORGANIZER;CN="Eagle's Eye Solutions":MAILTO:contact@eagleseye.mu
END:VEVENT
BEGIN:VEVENT
DTSTART;VALUE=DATE:20240606
DTEND;VALUE=DATE:20240607
DTSTAMP:20260421T032351
CREATED:20240502T081940Z
LAST-MODIFIED:20240502T081940Z
UID:4111-1717632000-1717718399@www.eagleseye.mu
SUMMARY:Project Management Professional\, PMP® Prep. Course
DESCRIPTION:
URL:https://www.eagleseye.mu/training-event/project-management-professional-pmp-prep-course-94/
LOCATION:Corporate Venue\, Kigali\, Rwanda
CATEGORIES:Project Management Training Category
ORGANIZER;CN="Eagle's Eye Solutions":MAILTO:contact@eagleseye.mu
END:VEVENT
END:VCALENDAR