BEGIN:VCALENDAR
VERSION:2.0
PRODID:-//Eagle&#039;s Eye Solutions Ltd - ECPv6.15.20//NONSGML v1.0//EN
CALSCALE:GREGORIAN
METHOD:PUBLISH
X-ORIGINAL-URL:https://www.eagleseye.mu
X-WR-CALDESC:Events for Eagle&#039;s Eye Solutions Ltd
REFRESH-INTERVAL;VALUE=DURATION:PT1H
X-Robots-Tag:noindex
X-PUBLISHED-TTL:PT1H
BEGIN:VTIMEZONE
TZID:Indian/Mauritius
BEGIN:STANDARD
TZOFFSETFROM:+0400
TZOFFSETTO:+0400
TZNAME:+04
DTSTART:20230101T000000
END:STANDARD
END:VTIMEZONE
BEGIN:VEVENT
DTSTART;VALUE=DATE:20240405
DTEND;VALUE=DATE:20240406
DTSTAMP:20260421T033250
CREATED:20240502T071045Z
LAST-MODIFIED:20240502T071045Z
UID:4087-1712275200-1712361599@www.eagleseye.mu
SUMMARY:Running a Project Steering Committee
DESCRIPTION:
URL:https://www.eagleseye.mu/training-event/running-a-project-steering-committee/
LOCATION:Corporate Venue\, Kigali\, Rwanda
CATEGORIES:Project Management Training Category
ORGANIZER;CN="Eagle's Eye Solutions":MAILTO:contact@eagleseye.mu
END:VEVENT
BEGIN:VEVENT
DTSTART;VALUE=DATE:20240406
DTEND;VALUE=DATE:20240407
DTSTAMP:20260421T033250
CREATED:20231006T054041Z
LAST-MODIFIED:20231006T054041Z
UID:4046-1712361600-1712447999@www.eagleseye.mu
SUMMARY:Project Management Professional\, PMP® Prep. Course
DESCRIPTION:
URL:https://www.eagleseye.mu/training-event/project-management-professional-pmp-prep-course-69/
LOCATION:Voila Hotel\, Bagatelle\, Bagatelle\, Reduit\, Mauritius
CATEGORIES:Project Management Training Category
ORGANIZER;CN="Eagle's Eye Solutions":MAILTO:contact@eagleseye.mu
END:VEVENT
BEGIN:VEVENT
DTSTART;VALUE=DATE:20240413
DTEND;VALUE=DATE:20240414
DTSTAMP:20260421T033250
CREATED:20231006T054235Z
LAST-MODIFIED:20231006T054235Z
UID:4048-1712966400-1713052799@www.eagleseye.mu
SUMMARY:Project Management Professional\, PMP® Prep. Course
DESCRIPTION:
URL:https://www.eagleseye.mu/training-event/project-management-professional-pmp-prep-course-70/
LOCATION:Voila Hotel\, Bagatelle\, Bagatelle\, Reduit\, Mauritius
CATEGORIES:Project Management Training Category
ORGANIZER;CN="Eagle's Eye Solutions":MAILTO:contact@eagleseye.mu
END:VEVENT
BEGIN:VEVENT
DTSTART;VALUE=DATE:20240415
DTEND;VALUE=DATE:20240416
DTSTAMP:20260421T033250
CREATED:20240502T065813Z
LAST-MODIFIED:20240502T065813Z
UID:4072-1713139200-1713225599@www.eagleseye.mu
SUMMARY:Project Management Professional\, PMP® Prep. Course
DESCRIPTION:
URL:https://www.eagleseye.mu/training-event/project-management-professional-pmp-prep-course-81/
LOCATION:Corporate Venue\, Kigali\, Rwanda
CATEGORIES:Project Management Training Category
ORGANIZER;CN="Eagle's Eye Solutions":MAILTO:contact@eagleseye.mu
END:VEVENT
BEGIN:VEVENT
DTSTART;VALUE=DATE:20240419
DTEND;VALUE=DATE:20240420
DTSTAMP:20260421T033250
CREATED:20240502T065929Z
LAST-MODIFIED:20240502T065929Z
UID:4074-1713484800-1713571199@www.eagleseye.mu
SUMMARY:Project Management Professional\, PMP® Prep. Course
DESCRIPTION:
URL:https://www.eagleseye.mu/training-event/project-management-professional-pmp-prep-course-82/
LOCATION:Corporate Venue\, Kigali\, Rwanda
CATEGORIES:Project Management Training Category
ORGANIZER;CN="Eagle's Eye Solutions":MAILTO:contact@eagleseye.mu
END:VEVENT
END:VCALENDAR