BEGIN:VCALENDAR
VERSION:2.0
PRODID:-//Eagle&#039;s Eye Solutions Ltd - ECPv6.15.20//NONSGML v1.0//EN
CALSCALE:GREGORIAN
METHOD:PUBLISH
X-ORIGINAL-URL:https://www.eagleseye.mu
X-WR-CALDESC:Events for Eagle&#039;s Eye Solutions Ltd
REFRESH-INTERVAL;VALUE=DURATION:PT1H
X-Robots-Tag:noindex
X-PUBLISHED-TTL:PT1H
BEGIN:VTIMEZONE
TZID:Indian/Mauritius
BEGIN:STANDARD
TZOFFSETFROM:+0400
TZOFFSETTO:+0400
TZNAME:+04
DTSTART:20220101T000000
END:STANDARD
END:VTIMEZONE
BEGIN:VEVENT
DTSTART;TZID=Indian/Mauritius:20231202T083000
DTEND;TZID=Indian/Mauritius:20231202T170000
DTSTAMP:20260420T183054
CREATED:20230927T164126Z
LAST-MODIFIED:20230927T164126Z
UID:4023-1701505800-1701536400@www.eagleseye.mu
SUMMARY:Project Management Professional\, PMP® Prep. Course
DESCRIPTION:
URL:https://www.eagleseye.mu/training-event/project-management-professional-pmp-prep-course-58/
LOCATION:Voila Hotel\, Bagatelle\, Bagatelle\, Reduit\, Mauritius
CATEGORIES:Project Management Training Category
ORGANIZER;CN="Eagle's Eye Solutions":MAILTO:contact@eagleseye.mu
END:VEVENT
BEGIN:VEVENT
DTSTART;TZID=Indian/Mauritius:20231209T083000
DTEND;TZID=Indian/Mauritius:20231209T170000
DTSTAMP:20260420T183054
CREATED:20230927T164317Z
LAST-MODIFIED:20230927T164317Z
UID:4025-1702110600-1702141200@www.eagleseye.mu
SUMMARY:Project Management Professional\, PMP® Prep. Course
DESCRIPTION:
URL:https://www.eagleseye.mu/training-event/project-management-professional-pmp-prep-course-59/
LOCATION:Voila Hotel\, Bagatelle\, Bagatelle\, Reduit\, Mauritius
CATEGORIES:Project Management Training Category
ORGANIZER;CN="Eagle's Eye Solutions":MAILTO:contact@eagleseye.mu
END:VEVENT
BEGIN:VEVENT
DTSTART;TZID=Indian/Mauritius:20231216T083000
DTEND;TZID=Indian/Mauritius:20231216T170000
DTSTAMP:20260420T183054
CREATED:20230927T164519Z
LAST-MODIFIED:20230927T164519Z
UID:4027-1702715400-1702746000@www.eagleseye.mu
SUMMARY:Project Management Professional\, PMP® Prep. Course
DESCRIPTION:
URL:https://www.eagleseye.mu/training-event/project-management-professional-pmp-prep-course-60/
LOCATION:Voila Hotel\, Bagatelle\, Bagatelle\, Reduit\, Mauritius
CATEGORIES:Project Management Training Category
ORGANIZER;CN="Eagle's Eye Solutions":MAILTO:contact@eagleseye.mu
END:VEVENT
BEGIN:VEVENT
DTSTART;VALUE=DATE:20231225
DTEND;VALUE=DATE:20231226
DTSTAMP:20260420T183054
CREATED:20220909T111411Z
LAST-MODIFIED:20220909T111411Z
UID:3798-1703462400-1703548799@www.eagleseye.mu
SUMMARY:Public Holiday
DESCRIPTION:
URL:https://www.eagleseye.mu/training-event/public-holiday-29/
CATEGORIES:Public Holiday
END:VEVENT
END:VCALENDAR