BEGIN:VCALENDAR
VERSION:2.0
PRODID:-//Eagle&#039;s Eye Solutions Ltd - ECPv6.15.20//NONSGML v1.0//EN
CALSCALE:GREGORIAN
METHOD:PUBLISH
X-WR-CALNAME:Eagle&#039;s Eye Solutions Ltd
X-ORIGINAL-URL:https://www.eagleseye.mu
X-WR-CALDESC:Events for Eagle&#039;s Eye Solutions Ltd
REFRESH-INTERVAL;VALUE=DURATION:PT1H
X-Robots-Tag:noindex
X-PUBLISHED-TTL:PT1H
BEGIN:VTIMEZONE
TZID:Indian/Mauritius
BEGIN:STANDARD
TZOFFSETFROM:+0400
TZOFFSETTO:+0400
TZNAME:+04
DTSTART:20220101T000000
END:STANDARD
END:VTIMEZONE
BEGIN:VEVENT
DTSTART;VALUE=DATE:20230501
DTEND;VALUE=DATE:20230502
DTSTAMP:20260420T074034
CREATED:20220909T110900Z
LAST-MODIFIED:20220909T110900Z
UID:3790-1682899200-1682985599@www.eagleseye.mu
SUMMARY:Public Holiday
DESCRIPTION:
URL:https://www.eagleseye.mu/training-event/public-holiday-25/
CATEGORIES:Public Holiday
END:VEVENT
BEGIN:VEVENT
DTSTART;VALUE=DATE:20230503
DTEND;VALUE=DATE:20230505
DTSTAMP:20260420T074034
CREATED:20230323T105417Z
LAST-MODIFIED:20230323T105417Z
UID:3985-1683072000-1683244799@www.eagleseye.mu
SUMMARY:Corporate Project Management
DESCRIPTION:
URL:https://www.eagleseye.mu/training-event/corporate-project-management-28/
LOCATION:Eagle’s Eye Solutions\, 3rd Floor\, SIT Business Centre\, NG Tower\, Wall Street\, Cybercity\, Ebene\, 72201\, Mauritius
CATEGORIES:Project Management Training Category
ORGANIZER;CN="Eagle's Eye Solutions":MAILTO:contact@eagleseye.mu
END:VEVENT
BEGIN:VEVENT
DTSTART;VALUE=DATE:20230506
DTEND;VALUE=DATE:20230507
DTSTAMP:20260420T074034
CREATED:20220921T062948Z
LAST-MODIFIED:20220921T062948Z
UID:3858-1683331200-1683417599@www.eagleseye.mu
SUMMARY:Project Management Professional\, PMP® Prep. Course
DESCRIPTION:
URL:https://www.eagleseye.mu/training-event/project-management-professional-pmp-prep-course-45/
LOCATION:Voila Hotel\, Bagatelle\, Bagatelle\, Reduit\, Mauritius
CATEGORIES:Weekend Session
ORGANIZER;CN="Eagle's Eye Solutions":MAILTO:contact@eagleseye.mu
END:VEVENT
BEGIN:VEVENT
DTSTART;VALUE=DATE:20230508
DTEND;VALUE=DATE:20230509
DTSTAMP:20260420T074034
CREATED:20230323T105607Z
LAST-MODIFIED:20230323T105607Z
UID:3987-1683504000-1683590399@www.eagleseye.mu
SUMMARY:Corporate Project Management
DESCRIPTION:
URL:https://www.eagleseye.mu/training-event/corporate-project-management-29/
LOCATION:Eagle’s Eye Solutions\, 3rd Floor\, SIT Business Centre\, NG Tower\, Wall Street\, Cybercity\, Ebene\, 72201\, Mauritius
CATEGORIES:Project Management Training Category
ORGANIZER;CN="Eagle's Eye Solutions":MAILTO:contact@eagleseye.mu
END:VEVENT
BEGIN:VEVENT
DTSTART;VALUE=DATE:20230510
DTEND;VALUE=DATE:20230512
DTSTAMP:20260420T074034
CREATED:20230323T105810Z
LAST-MODIFIED:20230323T105810Z
UID:3989-1683676800-1683849599@www.eagleseye.mu
SUMMARY:Corporate Project Management
DESCRIPTION:
URL:https://www.eagleseye.mu/training-event/corporate-project-management-30/
LOCATION:Eagle’s Eye Solutions\, 3rd Floor\, SIT Business Centre\, NG Tower\, Wall Street\, Cybercity\, Ebene\, 72201\, Mauritius
CATEGORIES:Project Management Training Category
ORGANIZER;CN="Eagle's Eye Solutions":MAILTO:contact@eagleseye.mu
END:VEVENT
BEGIN:VEVENT
DTSTART;VALUE=DATE:20230513
DTEND;VALUE=DATE:20230514
DTSTAMP:20260420T074034
CREATED:20220921T063030Z
LAST-MODIFIED:20220921T063030Z
UID:3860-1683936000-1684022399@www.eagleseye.mu
SUMMARY:Project Management Professional\, PMP® Prep. Course
DESCRIPTION:
URL:https://www.eagleseye.mu/training-event/project-management-professional-pmp-prep-course-46/
LOCATION:Voila Hotel\, Bagatelle\, Bagatelle\, Reduit\, Mauritius
CATEGORIES:Weekend Session
ORGANIZER;CN="Eagle's Eye Solutions":MAILTO:contact@eagleseye.mu
END:VEVENT
BEGIN:VEVENT
DTSTART;VALUE=DATE:20230515
DTEND;VALUE=DATE:20230520
DTSTAMP:20260420T074034
CREATED:20230208T101938Z
LAST-MODIFIED:20230208T101938Z
UID:3951-1684108800-1684540799@www.eagleseye.mu
SUMMARY:Corporate Project Management
DESCRIPTION:
URL:https://www.eagleseye.mu/training-event/corporate-project-management-20/
LOCATION:Corporate Venue\, Kigali\, Rwanda
CATEGORIES:Project Management Training Category
ORGANIZER;CN="Eagle's Eye Solutions":MAILTO:contact@eagleseye.mu
END:VEVENT
BEGIN:VEVENT
DTSTART;VALUE=DATE:20230520
DTEND;VALUE=DATE:20230521
DTSTAMP:20260420T074034
CREATED:20220921T063119Z
LAST-MODIFIED:20220921T063119Z
UID:3862-1684540800-1684627199@www.eagleseye.mu
SUMMARY:Project Management Professional\, PMP® Prep. Course
DESCRIPTION:
URL:https://www.eagleseye.mu/training-event/project-management-professional-pmp-prep-course-47/
LOCATION:Voila Hotel\, Bagatelle\, Bagatelle\, Reduit\, Mauritius
CATEGORIES:Weekend Session
ORGANIZER;CN="Eagle's Eye Solutions":MAILTO:contact@eagleseye.mu
END:VEVENT
BEGIN:VEVENT
DTSTART;VALUE=DATE:20230528
DTEND;VALUE=DATE:20230529
DTSTAMP:20260420T074034
CREATED:20220921T063206Z
LAST-MODIFIED:20230323T104325Z
UID:3864-1685232000-1685318399@www.eagleseye.mu
SUMMARY:Project Management Professional\, PMP® Prep. Course
DESCRIPTION:
URL:https://www.eagleseye.mu/training-event/project-management-professional-pmp-prep-course-48/
LOCATION:Voila Hotel\, Bagatelle\, Bagatelle\, Reduit\, Mauritius
CATEGORIES:Weekend Session
ORGANIZER;CN="Eagle's Eye Solutions":MAILTO:contact@eagleseye.mu
END:VEVENT
END:VCALENDAR