BEGIN:VCALENDAR
VERSION:2.0
PRODID:-//Eagle&#039;s Eye Solutions Ltd - ECPv6.15.20//NONSGML v1.0//EN
CALSCALE:GREGORIAN
METHOD:PUBLISH
X-ORIGINAL-URL:https://www.eagleseye.mu
X-WR-CALDESC:Events for Eagle&#039;s Eye Solutions Ltd
REFRESH-INTERVAL;VALUE=DURATION:PT1H
X-Robots-Tag:noindex
X-PUBLISHED-TTL:PT1H
BEGIN:VTIMEZONE
TZID:Indian/Mauritius
BEGIN:STANDARD
TZOFFSETFROM:+0400
TZOFFSETTO:+0400
TZNAME:+04
DTSTART:20220101T000000
END:STANDARD
END:VTIMEZONE
BEGIN:VEVENT
DTSTART;VALUE=DATE:20230401
DTEND;VALUE=DATE:20230402
DTSTAMP:20260420T061753
CREATED:20220921T062554Z
LAST-MODIFIED:20220921T062554Z
UID:3850-1680307200-1680393599@www.eagleseye.mu
SUMMARY:Project Management Professional\, PMP® Prep. Course
DESCRIPTION:
URL:https://www.eagleseye.mu/training-event/project-management-professional-pmp-prep-course-41/
LOCATION:Voila Hotel\, Bagatelle\, Bagatelle\, Reduit\, Mauritius
CATEGORIES:Weekend Session
ORGANIZER;CN="Eagle's Eye Solutions":MAILTO:contact@eagleseye.mu
END:VEVENT
BEGIN:VEVENT
DTSTART;VALUE=DATE:20230403
DTEND;VALUE=DATE:20230406
DTSTAMP:20260420T061753
CREATED:20230125T125129Z
LAST-MODIFIED:20230125T125129Z
UID:3945-1680480000-1680739199@www.eagleseye.mu
SUMMARY:Corporate Project Management & Planning
DESCRIPTION:
URL:https://www.eagleseye.mu/training-event/corporate-project-management-planning/
LOCATION:Online Live Virtual Classroom\, Eagle's Eye Solutions\, Cybercity\, Ebene\, 72201\, Mauritius
CATEGORIES:Live Online Classes
ORGANIZER;CN="Eagle's Eye Solutions":MAILTO:contact@eagleseye.mu
END:VEVENT
BEGIN:VEVENT
DTSTART;VALUE=DATE:20230407
DTEND;VALUE=DATE:20230408
DTSTAMP:20260420T061753
CREATED:20230323T101743Z
LAST-MODIFIED:20230323T101743Z
UID:3968-1680825600-1680911999@www.eagleseye.mu
SUMMARY:Corporate Project Management
DESCRIPTION:
URL:https://www.eagleseye.mu/training-event/corporate-project-management-25/
LOCATION:Corporate Venue\, Kigali\, Rwanda
CATEGORIES:Project Management Training Category
ORGANIZER;CN="Eagle's Eye Solutions":MAILTO:contact@eagleseye.mu
END:VEVENT
BEGIN:VEVENT
DTSTART;VALUE=DATE:20230408
DTEND;VALUE=DATE:20230409
DTSTAMP:20260420T061753
CREATED:20220921T062642Z
LAST-MODIFIED:20220921T062642Z
UID:3852-1680912000-1680998399@www.eagleseye.mu
SUMMARY:Project Management Professional\, PMP® Prep. Course
DESCRIPTION:
URL:https://www.eagleseye.mu/training-event/project-management-professional-pmp-prep-course-42/
LOCATION:Voila Hotel\, Bagatelle\, Bagatelle\, Reduit\, Mauritius
CATEGORIES:Weekend Session
ORGANIZER;CN="Eagle's Eye Solutions":MAILTO:contact@eagleseye.mu
END:VEVENT
BEGIN:VEVENT
DTSTART;VALUE=DATE:20230410
DTEND;VALUE=DATE:20230414
DTSTAMP:20260420T061753
CREATED:20230323T101924Z
LAST-MODIFIED:20230323T101924Z
UID:3970-1681084800-1681430399@www.eagleseye.mu
SUMMARY:Corporate Project Management
DESCRIPTION:
URL:https://www.eagleseye.mu/training-event/corporate-project-management-26/
LOCATION:Eagle’s Eye Solutions\, 3rd Floor\, SIT Business Centre\, NG Tower\, Wall Street\, Cybercity\, Ebene\, 72201\, Mauritius
CATEGORIES:Project Management Training Category
ORGANIZER;CN="Eagle's Eye Solutions":MAILTO:contact@eagleseye.mu
END:VEVENT
BEGIN:VEVENT
DTSTART;VALUE=DATE:20230422
DTEND;VALUE=DATE:20230423
DTSTAMP:20260420T061753
CREATED:20220909T110753Z
LAST-MODIFIED:20220909T110753Z
UID:3788-1682121600-1682207999@www.eagleseye.mu
SUMMARY:Public Holiday
DESCRIPTION:
URL:https://www.eagleseye.mu/training-event/public-holiday-24/
CATEGORIES:Public Holiday
END:VEVENT
BEGIN:VEVENT
DTSTART;VALUE=DATE:20230425
DTEND;VALUE=DATE:20230429
DTSTAMP:20260420T061753
CREATED:20230323T103703Z
LAST-MODIFIED:20230323T103703Z
UID:3974-1682380800-1682726399@www.eagleseye.mu
SUMMARY:Corporate Project Management
DESCRIPTION:
URL:https://www.eagleseye.mu/training-event/corporate-project-management-27/
LOCATION:Eagle’s Eye Solutions\, 3rd Floor\, SIT Business Centre\, NG Tower\, Wall Street\, Cybercity\, Ebene\, 72201\, Mauritius
CATEGORIES:Project Management Training Category
ORGANIZER;CN="Eagle's Eye Solutions":MAILTO:contact@eagleseye.mu
END:VEVENT
END:VCALENDAR