BEGIN:VCALENDAR
VERSION:2.0
PRODID:-//Eagle&#039;s Eye Solutions Ltd - ECPv6.15.20//NONSGML v1.0//EN
CALSCALE:GREGORIAN
METHOD:PUBLISH
X-ORIGINAL-URL:https://www.eagleseye.mu
X-WR-CALDESC:Events for Eagle&#039;s Eye Solutions Ltd
REFRESH-INTERVAL;VALUE=DURATION:PT1H
X-Robots-Tag:noindex
X-PUBLISHED-TTL:PT1H
BEGIN:VTIMEZONE
TZID:Indian/Mauritius
BEGIN:STANDARD
TZOFFSETFROM:+0400
TZOFFSETTO:+0400
TZNAME:+04
DTSTART:20210101T000000
END:STANDARD
END:VTIMEZONE
BEGIN:VEVENT
DTSTART;VALUE=DATE:20221003
DTEND;VALUE=DATE:20221004
DTSTAMP:20260419T184146
CREATED:20220912T113512Z
LAST-MODIFIED:20220912T113512Z
UID:3802-1664755200-1664841599@www.eagleseye.mu
SUMMARY:Project Scheduling
DESCRIPTION:
URL:https://www.eagleseye.mu/training-event/project-scheduling-2/
LOCATION:Corporate Venue\, Kigali\, Rwanda
CATEGORIES:Project Management Training Category
ORGANIZER;CN="Eagle's Eye Solutions":MAILTO:contact@eagleseye.mu
END:VEVENT
BEGIN:VEVENT
DTSTART;TZID=Indian/Mauritius:20221008T080000
DTEND;TZID=Indian/Mauritius:20221008T180000
DTSTAMP:20260419T184146
CREATED:20220818T135512Z
LAST-MODIFIED:20220916T104610Z
UID:3756-1665216000-1665252000@www.eagleseye.mu
SUMMARY:Project Management Professional\, PMP® Prep. Course
DESCRIPTION:
URL:https://www.eagleseye.mu/training-event/project-management-professional-pmp-prep-course-30/
LOCATION:Voila Hotel\, Bagatelle\, Bagatelle\, Reduit\, Mauritius
CATEGORIES:Weekend Session
ORGANIZER;CN="Eagle's Eye Solutions":MAILTO:contact@eagleseye.mu
END:VEVENT
BEGIN:VEVENT
DTSTART;TZID=Indian/Mauritius:20221018T080000
DTEND;TZID=Indian/Mauritius:20221019T170000
DTSTAMP:20260419T184146
CREATED:20220916T104105Z
LAST-MODIFIED:20220916T104105Z
UID:3813-1666080000-1666198800@www.eagleseye.mu
SUMMARY:Corporate – Project Management
DESCRIPTION:
URL:https://www.eagleseye.mu/training-event/corporate-project-management-5/
LOCATION:Corporate Venue\, Kigali\, Rwanda
CATEGORIES:Project Management Training Category
ORGANIZER;CN="Eagle's Eye Solutions":MAILTO:contact@eagleseye.mu
END:VEVENT
BEGIN:VEVENT
DTSTART;VALUE=DATE:20221020
DTEND;VALUE=DATE:20221021
DTSTAMP:20260419T184146
CREATED:20221028T155636Z
LAST-MODIFIED:20221028T155636Z
UID:3876-1666224000-1666310399@www.eagleseye.mu
SUMMARY:Corporate Project Management
DESCRIPTION:
URL:https://www.eagleseye.mu/training-event/corporate-project-management-3/
CATEGORIES:Project Management Training Category
END:VEVENT
BEGIN:VEVENT
DTSTART;VALUE=DATE:20221021
DTEND;VALUE=DATE:20221022
DTSTAMP:20260419T184146
CREATED:20220916T104208Z
LAST-MODIFIED:20220916T104208Z
UID:3815-1666310400-1666396799@www.eagleseye.mu
SUMMARY:Corporate – Project Management
DESCRIPTION:
URL:https://www.eagleseye.mu/training-event/corporate-project-management-6/
LOCATION:Corporate Venue\, Kigali\, Rwanda
CATEGORIES:Project Management Training Category
ORGANIZER;CN="Eagle's Eye Solutions":MAILTO:contact@eagleseye.mu
END:VEVENT
BEGIN:VEVENT
DTSTART;TZID=Indian/Mauritius:20221022T080000
DTEND;TZID=Indian/Mauritius:20221022T180000
DTSTAMP:20260419T184146
CREATED:20220818T135934Z
LAST-MODIFIED:20220916T104822Z
UID:3760-1666425600-1666461600@www.eagleseye.mu
SUMMARY:Project Management Professional\, PMP® Prep. Course
DESCRIPTION:
URL:https://www.eagleseye.mu/training-event/project-management-professional-pmp-prep-course-32/
LOCATION:Voila Hotel\, Bagatelle\, Bagatelle\, Reduit\, Mauritius
CATEGORIES:Weekend Session
ORGANIZER;CN="Eagle's Eye Solutions":MAILTO:contact@eagleseye.mu
END:VEVENT
BEGIN:VEVENT
DTSTART;VALUE=DATE:20221024
DTEND;VALUE=DATE:20221025
DTSTAMP:20260419T184146
CREATED:20211208T150438Z
LAST-MODIFIED:20211208T150438Z
UID:3614-1666569600-1666655999@www.eagleseye.mu
SUMMARY:Public Holiday
DESCRIPTION:
URL:https://www.eagleseye.mu/training-event/public-holiday-14/
CATEGORIES:Public Holiday
END:VEVENT
BEGIN:VEVENT
DTSTART;VALUE=DATE:20221025
DTEND;VALUE=DATE:20221027
DTSTAMP:20260419T184146
CREATED:20220916T104303Z
LAST-MODIFIED:20220916T104303Z
UID:3817-1666656000-1666828799@www.eagleseye.mu
SUMMARY:Corporate – Project Management
DESCRIPTION:
URL:https://www.eagleseye.mu/training-event/corporate-project-management-7/
LOCATION:Corporate Venue\, Kigali\, Rwanda
CATEGORIES:Project Management Training Category
ORGANIZER;CN="Eagle's Eye Solutions":MAILTO:contact@eagleseye.mu
END:VEVENT
BEGIN:VEVENT
DTSTART;VALUE=DATE:20221027
DTEND;VALUE=DATE:20221029
DTSTAMP:20260419T184146
CREATED:20221028T155747Z
LAST-MODIFIED:20221028T155747Z
UID:3878-1666828800-1667001599@www.eagleseye.mu
SUMMARY:Corporate Project Management
DESCRIPTION:
URL:https://www.eagleseye.mu/training-event/corporate-project-management-4/
CATEGORIES:Project Management Training Category
END:VEVENT
BEGIN:VEVENT
DTSTART;TZID=Indian/Mauritius:20221029T080000
DTEND;TZID=Indian/Mauritius:20221029T180000
DTSTAMP:20260419T184146
CREATED:20220818T135303Z
LAST-MODIFIED:20220916T104917Z
UID:3754-1667030400-1667066400@www.eagleseye.mu
SUMMARY:Project Management Professional\, PMP® Prep. Course
DESCRIPTION:
URL:https://www.eagleseye.mu/training-event/project-management-professional-pmp-prep-course-29/
LOCATION:Voila Hotel\, Bagatelle\, Bagatelle\, Reduit\, Mauritius
CATEGORIES:Weekend Session
ORGANIZER;CN="Eagle's Eye Solutions":MAILTO:contact@eagleseye.mu
END:VEVENT
BEGIN:VEVENT
DTSTART;VALUE=DATE:20221031
DTEND;VALUE=DATE:20221102
DTSTAMP:20260419T184146
CREATED:20221028T155829Z
LAST-MODIFIED:20221028T155829Z
UID:3880-1667174400-1667347199@www.eagleseye.mu
SUMMARY:Corporate Project Management
DESCRIPTION:
URL:https://www.eagleseye.mu/training-event/corporate-project-management-8/
CATEGORIES:Project Management Training Category
END:VEVENT
END:VCALENDAR