BEGIN:VCALENDAR
VERSION:2.0
PRODID:-//Eagle&#039;s Eye Solutions Ltd - ECPv6.15.20//NONSGML v1.0//EN
CALSCALE:GREGORIAN
METHOD:PUBLISH
X-ORIGINAL-URL:https://www.eagleseye.mu
X-WR-CALDESC:Events for Eagle&#039;s Eye Solutions Ltd
REFRESH-INTERVAL;VALUE=DURATION:PT1H
X-Robots-Tag:noindex
X-PUBLISHED-TTL:PT1H
BEGIN:VTIMEZONE
TZID:Indian/Mauritius
BEGIN:STANDARD
TZOFFSETFROM:+0400
TZOFFSETTO:+0400
TZNAME:+04
DTSTART:20210101T000000
END:STANDARD
END:VTIMEZONE
BEGIN:VEVENT
DTSTART;VALUE=DATE:20220901
DTEND;VALUE=DATE:20220902
DTSTAMP:20260419T165920
CREATED:20211208T150250Z
LAST-MODIFIED:20211208T150250Z
UID:3612-1661990400-1662076799@www.eagleseye.mu
SUMMARY:Public Holiday
DESCRIPTION:
URL:https://www.eagleseye.mu/training-event/public-holiday-13/
CATEGORIES:Public Holiday
END:VEVENT
BEGIN:VEVENT
DTSTART;TZID=Indian/Mauritius:20220903T080000
DTEND;TZID=Indian/Mauritius:20220903T180000
DTSTAMP:20260419T165920
CREATED:20220622T050515Z
LAST-MODIFIED:20220622T050515Z
UID:3731-1662192000-1662228000@www.eagleseye.mu
SUMMARY:Project Management Professional\, PMP® Prep. Course
DESCRIPTION:
URL:https://www.eagleseye.mu/training-event/project-management-professional-pmp-prep-course-16/
LOCATION:Voila Hotel\, Bagatelle\, Bagatelle\, Reduit\, Mauritius
CATEGORIES:Weekend Session
ORGANIZER;CN="Eagle's Eye Solutions":MAILTO:contact@eagleseye.mu
END:VEVENT
BEGIN:VEVENT
DTSTART;TZID=Indian/Mauritius:20220911T080000
DTEND;TZID=Indian/Mauritius:20220911T180000
DTSTAMP:20260419T165920
CREATED:20220622T050649Z
LAST-MODIFIED:20220627T153830Z
UID:3733-1662883200-1662919200@www.eagleseye.mu
SUMMARY:Project Management Professional\, PMP® Prep. Course
DESCRIPTION:
URL:https://www.eagleseye.mu/training-event/project-management-professional-pmp-prep-course-26/
LOCATION:Voila Hotel\, Bagatelle\, Bagatelle\, Reduit\, Mauritius
CATEGORIES:Weekend Session
ORGANIZER;CN="Eagle's Eye Solutions":MAILTO:contact@eagleseye.mu
END:VEVENT
BEGIN:VEVENT
DTSTART;TZID=Indian/Mauritius:20220917T080000
DTEND;TZID=Indian/Mauritius:20220917T180000
DTSTAMP:20260419T165920
CREATED:20220622T050836Z
LAST-MODIFIED:20220622T050836Z
UID:3735-1663401600-1663437600@www.eagleseye.mu
SUMMARY:Project Management Professional\, PMP® Prep. Course
DESCRIPTION:
URL:https://www.eagleseye.mu/training-event/project-management-professional-pmp-prep-course-27/
LOCATION:Voila Hotel\, Bagatelle\, Bagatelle\, Reduit\, Mauritius
CATEGORIES:Weekend Session
ORGANIZER;CN="Eagle's Eye Solutions":MAILTO:contact@eagleseye.mu
END:VEVENT
BEGIN:VEVENT
DTSTART;TZID=Indian/Mauritius:20220924T080000
DTEND;TZID=Indian/Mauritius:20220924T180000
DTSTAMP:20260419T165920
CREATED:20220622T051027Z
LAST-MODIFIED:20220622T052121Z
UID:3737-1664006400-1664042400@www.eagleseye.mu
SUMMARY:Project Management Professional\, PMP® Prep. Course
DESCRIPTION:
URL:https://www.eagleseye.mu/training-event/project-management-professional-pmp-prep-course-28/
LOCATION:Voila Hotel\, Bagatelle\, Bagatelle\, Reduit\, Mauritius
CATEGORIES:Weekend Session
ORGANIZER;CN="Eagle's Eye Solutions":MAILTO:contact@eagleseye.mu
END:VEVENT
BEGIN:VEVENT
DTSTART;VALUE=DATE:20220929
DTEND;VALUE=DATE:20220930
DTSTAMP:20260419T165920
CREATED:20220912T113427Z
LAST-MODIFIED:20220912T113427Z
UID:3800-1664409600-1664495999@www.eagleseye.mu
SUMMARY:Project Scheduling
DESCRIPTION:
URL:https://www.eagleseye.mu/training-event/project-scheduling/
LOCATION:Corporate Venue\, Kigali\, Rwanda
CATEGORIES:Project Management Training Category
END:VEVENT
END:VCALENDAR