BEGIN:VCALENDAR
VERSION:2.0
PRODID:-//Eagle&#039;s Eye Solutions Ltd - ECPv6.15.20//NONSGML v1.0//EN
CALSCALE:GREGORIAN
METHOD:PUBLISH
X-ORIGINAL-URL:https://www.eagleseye.mu
X-WR-CALDESC:Events for Eagle&#039;s Eye Solutions Ltd
REFRESH-INTERVAL;VALUE=DURATION:PT1H
X-Robots-Tag:noindex
X-PUBLISHED-TTL:PT1H
BEGIN:VTIMEZONE
TZID:Indian/Mauritius
BEGIN:STANDARD
TZOFFSETFROM:+0400
TZOFFSETTO:+0400
TZNAME:+04
DTSTART:20140101T000000
END:STANDARD
END:VTIMEZONE
BEGIN:VEVENT
DTSTART;TZID=Indian/Mauritius:20150824T090000
DTEND;TZID=Indian/Mauritius:20150826T170000
DTSTAMP:20260419T190024
CREATED:20150601T060847Z
LAST-MODIFIED:20150622T101516Z
UID:1068-1440406800-1440608400@www.eagleseye.mu
SUMMARY:Agile Certified Practitioner (PMI-ACP)® Prep. Course (Mauritius)
DESCRIPTION:Course Name: Project Management – Eagle’s Eye 3 \nThis is a PMI-Agile Certified Practitioner (PMI-ACP)® Preparatory Course where candidates will be trained to become an Agile Certified Practitioner (PMI-ACP)® and will be able to align the Agile development experience with PMI’s six domains of practice and create a personalized plan for self-study to focus their efforts from after the course to their examination date. \nProfile of Participants: \n\nExperienced Agile practitioners who plan to take the PMI-ACP®exam\, as well as PMP® credential holders with Agile project management experience who wish to enhance their accreditation.\nProject Managers\nGeneral Managers\nProgramme Managers\nTeam Managers and support staff\nStaff who will have a defined role\nProject Management Consultants.
URL:https://www.eagleseye.mu/training-event/agile-certified-practitioner-pmi-acp-prep-course-mauritius-3/
LOCATION:Voila Hotel\, Bagatelle\, Bagatelle\, Reduit\, Mauritius
CATEGORIES:Project Management Training Category
END:VEVENT
END:VCALENDAR