BEGIN:VCALENDAR
VERSION:2.0
PRODID:-//Eagle&#039;s Eye Solutions Ltd - ECPv6.15.20//NONSGML v1.0//EN
CALSCALE:GREGORIAN
METHOD:PUBLISH
X-WR-CALNAME:Eagle&#039;s Eye Solutions Ltd
X-ORIGINAL-URL:https://www.eagleseye.mu
X-WR-CALDESC:Events for Eagle&#039;s Eye Solutions Ltd
REFRESH-INTERVAL;VALUE=DURATION:PT1H
X-Robots-Tag:noindex
X-PUBLISHED-TTL:PT1H
BEGIN:VTIMEZONE
TZID:Indian/Mauritius
BEGIN:STANDARD
TZOFFSETFROM:+0400
TZOFFSETTO:+0400
TZNAME:+04
DTSTART:20240101T000000
END:STANDARD
END:VTIMEZONE
BEGIN:VEVENT
DTSTART;VALUE=DATE:20251001
DTEND;VALUE=DATE:20251002
DTSTAMP:20260422T074554
CREATED:20250910T140300Z
LAST-MODIFIED:20250910T140300Z
UID:4397-1759276800-1759363199@www.eagleseye.mu
SUMMARY:Project Management Workshop
DESCRIPTION:
URL:https://www.eagleseye.mu/training-event/project-management-workshop/
LOCATION:Corporate Venue\, Kigali\, Rwanda
CATEGORIES:Corporate Session
END:VEVENT
END:VCALENDAR