BEGIN:VCALENDAR
VERSION:2.0
PRODID:-//Eagle&#039;s Eye Solutions Ltd - ECPv6.15.20//NONSGML v1.0//EN
CALSCALE:GREGORIAN
METHOD:PUBLISH
X-ORIGINAL-URL:https://www.eagleseye.mu
X-WR-CALDESC:Events for Eagle&#039;s Eye Solutions Ltd
REFRESH-INTERVAL;VALUE=DURATION:PT1H
X-Robots-Tag:noindex
X-PUBLISHED-TTL:PT1H
BEGIN:VTIMEZONE
TZID:Indian/Mauritius
BEGIN:STANDARD
TZOFFSETFROM:+0400
TZOFFSETTO:+0400
TZNAME:+04
DTSTART:20240101T000000
END:STANDARD
END:VTIMEZONE
BEGIN:VEVENT
DTSTART;TZID=Indian/Mauritius:20250519T080000
DTEND;TZID=Indian/Mauritius:20250519T170000
DTSTAMP:20260422T020631
CREATED:20250307T144826Z
LAST-MODIFIED:20250307T144826Z
UID:4235-1747641600-1747674000@www.eagleseye.mu
SUMMARY:Project Management Professional (PMP) - Corporate
DESCRIPTION:
URL:https://www.eagleseye.mu/training-event/project-management-professional-pmp-corporate-5/
CATEGORIES:Corporate Session
END:VEVENT
END:VCALENDAR