BEGIN:VCALENDAR
VERSION:2.0
PRODID:-//Eagle&#039;s Eye Solutions Ltd - ECPv6.15.20//NONSGML v1.0//EN
CALSCALE:GREGORIAN
METHOD:PUBLISH
X-WR-CALNAME:Eagle&#039;s Eye Solutions Ltd
X-ORIGINAL-URL:https://www.eagleseye.mu
X-WR-CALDESC:Events for Eagle&#039;s Eye Solutions Ltd
REFRESH-INTERVAL;VALUE=DURATION:PT1H
X-Robots-Tag:noindex
X-PUBLISHED-TTL:PT1H
BEGIN:VTIMEZONE
TZID:Indian/Mauritius
BEGIN:STANDARD
TZOFFSETFROM:+0400
TZOFFSETTO:+0400
TZNAME:+04
DTSTART:20230101T000000
END:STANDARD
END:VTIMEZONE
BEGIN:VEVENT
DTSTART;VALUE=DATE:20240228
DTEND;VALUE=DATE:20240229
DTSTAMP:20260420T223946
CREATED:20240502T072647Z
LAST-MODIFIED:20240502T072647Z
UID:4107-1709078400-1709164799@www.eagleseye.mu
SUMMARY:Project Management Fundamentals
DESCRIPTION:
URL:https://www.eagleseye.mu/training-event/project-management-fundamentals-4/
LOCATION:Corporate Venue\, Kigali\, Rwanda
CATEGORIES:Project Management Training Category
ORGANIZER;CN="Eagle's Eye Solutions":MAILTO:contact@eagleseye.mu
END:VEVENT
END:VCALENDAR