BEGIN:VCALENDAR
VERSION:2.0
PRODID:-//Eagle&#039;s Eye Solutions Ltd - ECPv6.15.20//NONSGML v1.0//EN
CALSCALE:GREGORIAN
METHOD:PUBLISH
X-WR-CALNAME:Eagle&#039;s Eye Solutions Ltd
X-ORIGINAL-URL:https://www.eagleseye.mu
X-WR-CALDESC:Events for Eagle&#039;s Eye Solutions Ltd
REFRESH-INTERVAL;VALUE=DURATION:PT1H
X-Robots-Tag:noindex
X-PUBLISHED-TTL:PT1H
BEGIN:VTIMEZONE
TZID:Indian/Mauritius
BEGIN:STANDARD
TZOFFSETFROM:+0400
TZOFFSETTO:+0400
TZNAME:+04
DTSTART:20220101T000000
END:STANDARD
END:VTIMEZONE
BEGIN:VEVENT
DTSTART;TZID=Indian/Mauritius:20231107T090000
DTEND;TZID=Indian/Mauritius:20231110T123000
DTSTAMP:20260420T182558
CREATED:20230924T062546Z
LAST-MODIFIED:20230924T062703Z
UID:4015-1699347600-1699619400@www.eagleseye.mu
SUMMARY:ITIL v4 Foundation
DESCRIPTION:
URL:https://www.eagleseye.mu/training-event/itil-v4-foundation/
LOCATION:Online Live Virtual Classroom\, Eagle's Eye Solutions\, Cybercity\, Ebene\, 72201\, Mauritius
CATEGORIES:Live Online Classes
ORGANIZER;CN="Eagle's Eye Solutions":MAILTO:contact@eagleseye.mu
END:VEVENT
END:VCALENDAR