BEGIN:VCALENDAR
VERSION:2.0
PRODID:-//Eagle&#039;s Eye Solutions Ltd - ECPv6.15.20//NONSGML v1.0//EN
CALSCALE:GREGORIAN
METHOD:PUBLISH
X-ORIGINAL-URL:https://www.eagleseye.mu
X-WR-CALDESC:Events for Eagle&#039;s Eye Solutions Ltd
REFRESH-INTERVAL;VALUE=DURATION:PT1H
X-Robots-Tag:noindex
X-PUBLISHED-TTL:PT1H
BEGIN:VTIMEZONE
TZID:Indian/Mauritius
BEGIN:STANDARD
TZOFFSETFROM:+0400
TZOFFSETTO:+0400
TZNAME:+04
DTSTART:20220101T000000
END:STANDARD
END:VTIMEZONE
BEGIN:VEVENT
DTSTART;VALUE=DATE:20230322
DTEND;VALUE=DATE:20230323
DTSTAMP:20260420T061611
CREATED:20220909T110631Z
LAST-MODIFIED:20220909T110631Z
UID:3786-1679443200-1679529599@www.eagleseye.mu
SUMMARY:Public Holiday
DESCRIPTION:
URL:https://www.eagleseye.mu/training-event/public-holiday-23/
CATEGORIES:Public Holiday
END:VEVENT
END:VCALENDAR