BEGIN:VCALENDAR
VERSION:2.0
PRODID:-//Eagle&#039;s Eye Solutions Ltd - ECPv6.15.20//NONSGML v1.0//EN
CALSCALE:GREGORIAN
METHOD:PUBLISH
X-ORIGINAL-URL:https://www.eagleseye.mu
X-WR-CALDESC:Events for Eagle&#039;s Eye Solutions Ltd
REFRESH-INTERVAL;VALUE=DURATION:PT1H
X-Robots-Tag:noindex
X-PUBLISHED-TTL:PT1H
BEGIN:VTIMEZONE
TZID:Indian/Mauritius
BEGIN:STANDARD
TZOFFSETFROM:+0400
TZOFFSETTO:+0400
TZNAME:+04
DTSTART:20220101T000000
END:STANDARD
END:VTIMEZONE
BEGIN:VEVENT
DTSTART;VALUE=DATE:20230130
DTEND;VALUE=DATE:20230131
DTSTAMP:20260420T012214
CREATED:20230111T114206Z
LAST-MODIFIED:20230111T114206Z
UID:3927-1675036800-1675123199@www.eagleseye.mu
SUMMARY:Corporate Project Management
DESCRIPTION:
URL:https://www.eagleseye.mu/training-event/corporate-project-management-17/
LOCATION:Online Live Virtual Classroom\, Eagle's Eye Solutions\, Cybercity\, Ebene\, 72201\, Mauritius
CATEGORIES:Live Online Classes
END:VEVENT
END:VCALENDAR